BEGIN:VCALENDAR
PRODID:-//herita10194//EN
VERSION:2.0
BEGIN:VEVENT
SUMMARY:Heritage Global Partners: Twitter: Online Auction Sale Featuring Surplus Corporate Office Assets of Twitter!
PRIORITY:0
CLASS:PUBLIC
DTSTART:20230117T150000Z
DTEND:20230118T211330Z
DESCRIPTION:
X-ALT-DESC;FMTTYPE=text/html:
LOCATION:1355 Market Street, San Francisco, California, 94103, United States
END:VEVENT
END:VCALENDAR